BEGIN:VCALENDAR
VERSION:2.0
PRODID:-//hacksw/handcal//NONSGML v1.0//EN
BEGIN:VEVENT
SUMMARY:Entrainement Equipe 1
UID:b591205f-26f1-4ec2-a0ab-e2ac0febdfc2
DTSTART:20260307T180000Z
DTEND:20260307T200000Z
LOCATION:Localisation   
CATEGORIES:Entrainement
STATUS:
DESCRIPTION:Entrainement tactique pour l'equipe 1 ce soir au stade
 Municipal. 
URL;VALUE=URI:https://fc-adam-memdouh-saint-marcel.sportsregions.fr/evenements/2026/03/07/entrainement-equipe-1-2424883
END:VEVENT
END:VCALENDAR
