BEGIN:VCALENDAR
VERSION:2.0
PRODID:-//hacksw/handcal//NONSGML v1.0//EN
BEGIN:VEVENT
SUMMARY:Tournoi regional
UID:c44eead3-6cb4-47eb-94d4-1ba8e86468d3
DTSTART:20260307T090000Z
DTEND:20260307T130000Z
LOCATION:Localisation   
CATEGORIES:Sportif
STATUS:
DESCRIPTION:<p>Le tournoi regional organise par le club aura lieu sur
 le grand stade de la ville a partir de 14h.<br> Trois de nos equipes
 seront en lice dans la competition.
 </p><p>Les prix seront remis en
 soiree.</p>
URL;VALUE=URI:https://fc-adam-memdouh-saint-marcel.sportsregions.fr/evenements/2026/03/07/tournoi-regional-2424881
END:VEVENT
END:VCALENDAR
